BEGIN:VCALENDAR
VERSION:2.0
PRODID:-//Plone.org//NONSGML plone.app.event//EN
X-WR-TIMEZONE:America/Sao_Paulo
BEGIN:VEVENT
SUMMARY:PicadeRRÓ em [ Arena da praça de serviços]
DTSTART;TZID=America/Sao_Paulo;VALUE=DATE-TIME:20240327T173000
DTEND;TZID=America/Sao_Paulo;VALUE=DATE-TIME:20240327T190000
DTSTAMP;VALUE=DATE-TIME:20260420T063402Z
UID:8b7b1077560d407aa615bdc5ee30a8e2@150.164.76.86:8080
CREATED;VALUE=DATE-TIME:20240304T110100Z
DESCRIPTION:Evento de caráter social\, cultural que tem como objetivo pri
 ncipal difundir a cultura do forró para toda a comunidade da UFMG. Utiliz
 amos recursos próprios bem como caixa de som e computadores para realiza
 ção do evento.
LAST-MODIFIED;VALUE=DATE-TIME:20240304T172836Z
URL:http://150.164.76.86:8080/cac/agenda/14448840801052598692
END:VEVENT
BEGIN:VTIMEZONE
TZID:America/Sao_Paulo
X-LIC-LOCATION:America/Sao_Paulo
BEGIN:STANDARD
DTSTART;VALUE=DATE-TIME:20240217T230000
TZNAME:BRT
TZOFFSETFROM:-0200
TZOFFSETTO:-0300
END:STANDARD
END:VTIMEZONE
END:VCALENDAR
