BEGIN:VCALENDAR
VERSION:2.0
PRODID:-//Plone.org//NONSGML plone.app.event//EN
X-WR-TIMEZONE:America/Sao_Paulo
BEGIN:VEVENT
SUMMARY:Projeto Recitais em [ Outros espacos]
DTSTART;TZID=America/Sao_Paulo;VALUE=DATE-TIME:20221027T193000
DTEND;TZID=America/Sao_Paulo;VALUE=DATE-TIME:20221027T210000
DTSTAMP;VALUE=DATE-TIME:20260421T235019Z
UID:2ab0f82935c8463f9c2ace3dd3b59aca@150.164.76.86:8080
CREATED;VALUE=DATE-TIME:20220929T152025Z
DESCRIPTION:<p>Solicito apoio no Evento do projeto Recitais: Lançamento d
 o CD da D. Lucinha Bosco\, acompanhada com a Velha Guarda do Samba. Necess
 itaremos do apoio de 01 ou 02 técnicos de áudio. Mapa de Palco Frente 4 
 caixas 4 retornos 2 subgrave Mesa - Cavaco 1 entrada - Violão 6 cordas 1 
 entrada - Violão 7 cordas 1 entrada - Baixo 1 entrada - Teclado 1 entrada
  . Total de entradas: 5 - Sax 1 microfone - Trombone 1 microfone - Pandeir
 o 1 microfone - Tantã 1 microfone - Surdo 1 microfone - Percussão 1 micr
 ofone - Bateria 1 microfone - Coro 4 microfones - Cantor 1 microfone . Tot
 al de microfones: 12 Entretanto\, faremos adaptação\, pois utilizaremos 
 apenas equipamentos do Centro Cultural UFMG. Adaptação: 02 caixas JBL 60
 0 W - para PA\; 03 caixas JBL 600 W - retorno\; 01 - Mesa digital Yamaha\,
  com 15 canais disponíveis.</p>
LAST-MODIFIED;VALUE=DATE-TIME:20221021T191222Z
URL:http://150.164.76.86:8080/cac/agenda/14439781475777845151
END:VEVENT
BEGIN:VTIMEZONE
TZID:America/Sao_Paulo
X-LIC-LOCATION:America/Sao_Paulo
BEGIN:DAYLIGHT
DTSTART;VALUE=DATE-TIME:20221016T010000
TZNAME:BRST
TZOFFSETFROM:-0300
TZOFFSETTO:-0200
END:DAYLIGHT
END:VTIMEZONE
END:VCALENDAR
