BEGIN:VCALENDAR
VERSION:2.0
PRODID:-//Plone.org//NONSGML plone.app.event//EN
X-WR-TIMEZONE:America/Sao_Paulo
BEGIN:VEVENT
SUMMARY:Aula inaugural em [ Auditorio A102 do Cad 2]
DTSTART;TZID=America/Sao_Paulo;VALUE=DATE-TIME:20250207T070000
DTEND;TZID=America/Sao_Paulo;VALUE=DATE-TIME:20250207T170000
DTSTAMP;VALUE=DATE-TIME:20260419T135446Z
UID:530f2736ceb747e1afd31c9142ce19a4@150.164.76.86:8080
CREATED;VALUE=DATE-TIME:20250120T184532Z
DESCRIPTION:<p>Aula inaugural Ingressantes Coltec 2025</p>
LAST-MODIFIED;VALUE=DATE-TIME:20250203T111545Z
URL:http://150.164.76.86:8080/cac/agenda/14420223757244882960
END:VEVENT
BEGIN:VTIMEZONE
TZID:America/Sao_Paulo
X-LIC-LOCATION:America/Sao_Paulo
BEGIN:DAYLIGHT
DTSTART;VALUE=DATE-TIME:20241020T010000
TZNAME:BRST
TZOFFSETFROM:-0300
TZOFFSETTO:-0200
END:DAYLIGHT
END:VTIMEZONE
END:VCALENDAR
