BEGIN:VCALENDAR
VERSION:2.0
PRODID:-//Plone.org//NONSGML plone.app.event//EN
X-WR-TIMEZONE:America/Sao_Paulo
BEGIN:VEVENT
SUMMARY:Reunião de pais - 1º ano em [ Auditorio A102 do Cad 2]
DTSTART;TZID=America/Sao_Paulo;VALUE=DATE-TIME:20230619T183000
DTEND;TZID=America/Sao_Paulo;VALUE=DATE-TIME:20230619T210000
DTSTAMP;VALUE=DATE-TIME:20260421T132947Z
UID:eebdcfa9a7374370bcdbd754dc65a174@150.164.76.86:8080
CREATED;VALUE=DATE-TIME:20230425T172608Z
DESCRIPTION:<p>Reunião de pais - 1º ano Integrado.</p>
LAST-MODIFIED;VALUE=DATE-TIME:20230427T115555Z
URL:http://150.164.76.86:8080/cac/agenda/14417116364788070358
END:VEVENT
BEGIN:VTIMEZONE
TZID:America/Sao_Paulo
X-LIC-LOCATION:America/Sao_Paulo
BEGIN:STANDARD
DTSTART;VALUE=DATE-TIME:20230225T230000
TZNAME:BRT
TZOFFSETFROM:-0200
TZOFFSETTO:-0300
END:STANDARD
END:VTIMEZONE
END:VCALENDAR
