BEGIN:VCALENDAR
VERSION:2.0
PRODID:-//Plone.org//NONSGML plone.app.event//EN
X-WR-TIMEZONE:America/Sao_Paulo
BEGIN:VEVENT
SUMMARY:IV Encontro de Primavera da Sociedade Brasileira de Física em [ A
 uditorio Nobre do CAD 1]
DTSTART;TZID=America/Sao_Paulo;VALUE=DATE-TIME:20240924T080000
DTEND;TZID=America/Sao_Paulo;VALUE=DATE-TIME:20240927T220000
DTSTAMP;VALUE=DATE-TIME:20260419T205546Z
UID:a3478e7d5be3447aa22d11e884b59321@150.164.76.86:8080
CREATED;VALUE=DATE-TIME:20240716T182041Z
DESCRIPTION:<p>Encontro de Primavera da Sociedade Brasileira de Física\, 
 que reúne as comunidades de física de altas energias\, astropartículas\
 , cosmologia/gravitação e física nuclear\, tanto experimentais quanto t
 eóricas. Serão necessários projetor\, computador e sistema de áudio (m
 icrofone e alto-falantes). O evento iniciará na segunda-feira\, 23 de Set
 embro de 2024\, às 08:00hs\, e durará uma semana\, concluindo na sexta-f
 eira\, 27 de setembro de 2024\, às 21:00hs.</p>
LAST-MODIFIED;VALUE=DATE-TIME:20240716T183348Z
URL:http://150.164.76.86:8080/cac/agenda/14416532006384472381
END:VEVENT
BEGIN:VTIMEZONE
TZID:America/Sao_Paulo
X-LIC-LOCATION:America/Sao_Paulo
BEGIN:STANDARD
DTSTART;VALUE=DATE-TIME:20240217T230000
TZNAME:BRT
TZOFFSETFROM:-0200
TZOFFSETTO:-0300
END:STANDARD
END:VTIMEZONE
END:VCALENDAR
