BEGIN:VCALENDAR
VERSION:2.0
PRODID:-//Plone.org//NONSGML plone.app.event//EN
X-WR-TIMEZONE:America/Sao_Paulo
BEGIN:VEVENT
SUMMARY:Reunião com Coordenadores de Cursos de Graduação -  Regime Acad
 êmico Especial para Permanência (RAEP) em [ Auditorio da Reitoria]
DTSTART;TZID=America/Sao_Paulo;VALUE=DATE-TIME:20231204T140000
DTEND;TZID=America/Sao_Paulo;VALUE=DATE-TIME:20231204T170000
DTSTAMP;VALUE=DATE-TIME:20260420T115105Z
UID:c51c21bd5ff343dba475c32ac47255ba@150.164.76.86:8080
CREATED;VALUE=DATE-TIME:20231107T140500Z
DESCRIPTION:<p>Mesa para três pessoas\, microfone de mesa\, microfone com
  pedestal\, projeção e transmissão.</p>
LAST-MODIFIED;VALUE=DATE-TIME:20231107T144500Z
URL:http://150.164.76.86:8080/cac/agenda/14392080159724532684
END:VEVENT
BEGIN:VTIMEZONE
TZID:America/Sao_Paulo
X-LIC-LOCATION:America/Sao_Paulo
BEGIN:DAYLIGHT
DTSTART;VALUE=DATE-TIME:20231015T010000
TZNAME:BRST
TZOFFSETFROM:-0300
TZOFFSETTO:-0200
END:DAYLIGHT
END:VTIMEZONE
END:VCALENDAR
