BEGIN:VCALENDAR
VERSION:2.0
PRODID:-//Plone.org//NONSGML plone.app.event//EN
X-WR-TIMEZONE:America/Sao_Paulo
BEGIN:VEVENT
SUMMARY:Seminário Ciclo IEAT 25 anos - Grande Conferência com catedráti
 co Jean Michel Alain em [ Auditorio A104 do Cad 2]
DTSTART;TZID=America/Sao_Paulo;VALUE=DATE-TIME:20240507T133000
DTEND;TZID=America/Sao_Paulo;VALUE=DATE-TIME:20240507T173000
DTSTAMP;VALUE=DATE-TIME:20260420T031246Z
UID:d85ca6d952124fd581bd3521c19a2784@150.164.76.86:8080
CREATED;VALUE=DATE-TIME:20240404T140148Z
DESCRIPTION:<p>Infraestrutura: Mesa para 5 lugares\, computador com powerp
 oint\, microfones\, mesa externa para credenciamento. Evento: Seminário C
 iclo IEAT 25 anos - Grande Conferência com catedrático Jean Michel Alain
 </p>
LAST-MODIFIED;VALUE=DATE-TIME:20240418T180706Z
URL:http://150.164.76.86:8080/cac/agenda/14384954120645072943
END:VEVENT
BEGIN:VTIMEZONE
TZID:America/Sao_Paulo
X-LIC-LOCATION:America/Sao_Paulo
BEGIN:STANDARD
DTSTART;VALUE=DATE-TIME:20240217T230000
TZNAME:BRT
TZOFFSETFROM:-0200
TZOFFSETTO:-0300
END:STANDARD
END:VTIMEZONE
END:VCALENDAR
