BEGIN:VCALENDAR
VERSION:2.0
PRODID:-//Plone.org//NONSGML plone.app.event//EN
X-WR-TIMEZONE:America/Sao_Paulo
BEGIN:VEVENT
SUMMARY:Reunião Conselho Universitário em [ Outros espacos]
DTSTART;TZID=America/Sao_Paulo;VALUE=DATE-TIME:20200702T130000
DTEND;TZID=America/Sao_Paulo;VALUE=DATE-TIME:20200702T180000
DTSTAMP;VALUE=DATE-TIME:20260424T210604Z
UID:de40ea3ca9554ae29e41afe424926304@150.164.76.86:8080
CREATED;VALUE=DATE-TIME:20200102T104656Z
DESCRIPTION:<p><span>Suporte audiovisual de praxe. Pré reserva feita no i
 nício do ano mas data e horário serão confirmados posteriormente. </sp
 an></p>
LAST-MODIFIED;VALUE=DATE-TIME:20200221T110932Z
URL:http://150.164.76.86:8080/cac/agenda/14378279370689963737
END:VEVENT
BEGIN:VTIMEZONE
TZID:America/Sao_Paulo
X-LIC-LOCATION:America/Sao_Paulo
BEGIN:STANDARD
DTSTART;VALUE=DATE-TIME:20200215T230000
TZNAME:BRT
TZOFFSETFROM:-0200
TZOFFSETTO:-0300
END:STANDARD
END:VTIMEZONE
END:VCALENDAR
