BEGIN:VCALENDAR
VERSION:2.0
PRODID:-//Plone.org//NONSGML plone.app.event//EN
X-WR-TIMEZONE:America/Sao_Paulo
BEGIN:VEVENT
SUMMARY:Mostra de Internacionalização da UFMG - Palestras 2024 em [ Audi
 torio da Reitoria]
DTSTART;TZID=America/Sao_Paulo;VALUE=DATE-TIME:20240524T130000
DTEND;TZID=America/Sao_Paulo;VALUE=DATE-TIME:20240524T220000
DTSTAMP;VALUE=DATE-TIME:20260420T031304Z
UID:6ead172cd01a4232b81ceef1e0e80755@150.164.76.86:8080
CREATED;VALUE=DATE-TIME:20240403T145354Z
DESCRIPTION:<p>Solicitamos a reserva do auditório da reitoria para a pale
 stra noturna\, parte da programação da Mostra de Internacionalização d
 a UFMG.</p>
LAST-MODIFIED;VALUE=DATE-TIME:20240521T112424Z
URL:http://150.164.76.86:8080/cac/agenda/1436914164527924740
END:VEVENT
BEGIN:VTIMEZONE
TZID:America/Sao_Paulo
X-LIC-LOCATION:America/Sao_Paulo
BEGIN:STANDARD
DTSTART;VALUE=DATE-TIME:20240217T230000
TZNAME:BRT
TZOFFSETFROM:-0200
TZOFFSETTO:-0300
END:STANDARD
END:VTIMEZONE
END:VCALENDAR
