BEGIN:VCALENDAR
VERSION:2.0
PRODID:-//Plone.org//NONSGML plone.app.event//EN
X-WR-TIMEZONE:America/Sao_Paulo
BEGIN:VEVENT
SUMMARY:1964 e a ditadura militar no quadro transnacional: novas perspecti
 vas historiográficas em [ Auditorio A102 do Cad 2]
DTSTART;TZID=America/Sao_Paulo;VALUE=DATE-TIME:20240325T090000
DTEND;TZID=America/Sao_Paulo;VALUE=DATE-TIME:20240327T220000
DTSTAMP;VALUE=DATE-TIME:20260420T063409Z
UID:8d67965dd7ff4e0389214ceab0836f08@150.164.76.86:8080
CREATED;VALUE=DATE-TIME:20240228T172328Z
DESCRIPTION:Seminário em parceria Universidade dos Direitos Humanos (UDH/
 PROEX) e Departamento de História - Laboratório do Tempo Presente
LAST-MODIFIED;VALUE=DATE-TIME:20240322T190829Z
URL:http://150.164.76.86:8080/cac/agenda/14362643939623227927
END:VEVENT
BEGIN:VTIMEZONE
TZID:America/Sao_Paulo
X-LIC-LOCATION:America/Sao_Paulo
BEGIN:STANDARD
DTSTART;VALUE=DATE-TIME:20240217T230000
TZNAME:BRT
TZOFFSETFROM:-0200
TZOFFSETTO:-0300
END:STANDARD
END:VTIMEZONE
END:VCALENDAR
