BEGIN:VCALENDAR
VERSION:2.0
PRODID:-//Plone.org//NONSGML plone.app.event//EN
X-WR-TIMEZONE:America/Sao_Paulo
BEGIN:VEVENT
SUMMARY:ASSEMBLEIA DO SINDIFES em [ Auditorio A104 do Cad 2]
DTSTART;TZID=America/Sao_Paulo;VALUE=DATE-TIME:20240425T080000
DTEND;TZID=America/Sao_Paulo;VALUE=DATE-TIME:20240425T170000
DTSTAMP;VALUE=DATE-TIME:20260420T044633Z
UID:20a0978bd4644a0abdba044c2c03d4ab@150.164.76.86:8080
CREATED;VALUE=DATE-TIME:20240403T203422Z
DESCRIPTION:<p>ASSEMBLEIA DO SINDIFES</p>
LAST-MODIFIED;VALUE=DATE-TIME:20240424T193006Z
URL:http://150.164.76.86:8080/cac/agenda/14350010715933510340
END:VEVENT
BEGIN:VTIMEZONE
TZID:America/Sao_Paulo
X-LIC-LOCATION:America/Sao_Paulo
BEGIN:STANDARD
DTSTART;VALUE=DATE-TIME:20240217T230000
TZNAME:BRT
TZOFFSETFROM:-0200
TZOFFSETTO:-0300
END:STANDARD
END:VTIMEZONE
END:VCALENDAR
