BEGIN:VCALENDAR
VERSION:2.0
PRODID:-//Plone.org//NONSGML plone.app.event//EN
X-WR-TIMEZONE:America/Sao_Paulo
BEGIN:VEVENT
SUMMARY:Troca de Gestão EMAS Jr. em [ Auditório B106 do CAD3]
DTSTART;TZID=America/Sao_Paulo;VALUE=DATE-TIME:20240628T173000
DTEND;TZID=America/Sao_Paulo;VALUE=DATE-TIME:20240628T220000
DTSTAMP;VALUE=DATE-TIME:20260420T012824Z
UID:39c8d132529e4d8b8fb1b0b6b60daa8c@150.164.76.86:8080
CREATED;VALUE=DATE-TIME:20240605T171207Z
DESCRIPTION:<p>O evento seria a troca de gestão da emprsa junior de engen
 haria civil e ambiental da UFMG\, em que eseramos alunos e professores dos
  cursos\, para prestigiar os membros.</p>
LAST-MODIFIED;VALUE=DATE-TIME:20240614T173104Z
URL:http://150.164.76.86:8080/cac/agenda/14348528767496678460
END:VEVENT
BEGIN:VTIMEZONE
TZID:America/Sao_Paulo
X-LIC-LOCATION:America/Sao_Paulo
BEGIN:STANDARD
DTSTART;VALUE=DATE-TIME:20240217T230000
TZNAME:BRT
TZOFFSETFROM:-0200
TZOFFSETTO:-0300
END:STANDARD
END:VTIMEZONE
END:VCALENDAR
