BEGIN:VCALENDAR
VERSION:2.0
PRODID:-//Plone.org//NONSGML plone.app.event//EN
X-WR-TIMEZONE:America/Sao_Paulo
BEGIN:VEVENT
SUMMARY:Festa do Livro UFMG 2025 em [ Arena da praça de serviços Entorno
  da Praca de Servicos]
DTSTART;TZID=America/Sao_Paulo;VALUE=DATE-TIME:20250322T080000
DTEND;TZID=America/Sao_Paulo;VALUE=DATE-TIME:20250328T090000
DTSTAMP;VALUE=DATE-TIME:20260419T115916Z
UID:0ff9fdc54ac14740ba878497dbbca7f6@150.164.76.86:8080
CREATED;VALUE=DATE-TIME:20241101T193910Z
DESCRIPTION:A Festa do Livro UFMG\, evento literário promovido anualmente
  pela Editora UFMG\, tem como objetivo divulgar a produção científica u
 niversitária\, possibilitar a comercialização\ndo catálogo de livros d
 e editoras públicas e privadas que figuram entre as indicações de leitu
 ras nos diferentes cursos ofertados pela UFMG\, além de cumprir a funçã
 o\nsocial de aproximar o leitor do livro e de apresentar obras de grande v
 alor cultural reunidas em um único espaço. No ano de 2025\, a Festa do l
 ivro será realizada \njuntamente com o Festival de Verão\, evento organi
 zado pela Pró-Reitoria de Cultura. Toda a infraestrutura para a realizaç
 ão do evento (segurança\, bancada\npara expositores\, contratação de p
 essoal\, limpeza...) será contratada pela Editora UFMG. A programação c
 ultural está sendo planejada em parceria com a Pró-Reitoria de \nCultura
 .
LAST-MODIFIED;VALUE=DATE-TIME:20241105T170810Z
URL:http://150.164.76.86:8080/cac/agenda/14332662001836655021
END:VEVENT
BEGIN:VTIMEZONE
TZID:America/Sao_Paulo
X-LIC-LOCATION:America/Sao_Paulo
BEGIN:STANDARD
DTSTART;VALUE=DATE-TIME:20250215T230000
TZNAME:BRT
TZOFFSETFROM:-0200
TZOFFSETTO:-0300
END:STANDARD
END:VTIMEZONE
END:VCALENDAR
