BEGIN:VCALENDAR
VERSION:2.0
PRODID:-//Plone.org//NONSGML plone.app.event//EN
X-WR-TIMEZONE:America/Sao_Paulo
BEGIN:VEVENT
SUMMARY:REUNIÃO DOS COORDENADORES DE PÓS GRADUAÇÃO em [ Outros espacos
  Auditorio da Reitoria]
DTSTART;TZID=America/Sao_Paulo;VALUE=DATE-TIME:20250203T140000
DTEND;TZID=America/Sao_Paulo;VALUE=DATE-TIME:20250203T170000
DTSTAMP;VALUE=DATE-TIME:20260419T115915Z
UID:351661c7b4b94f4e8b880acc25a9c555@150.164.76.86:8080
CREATED;VALUE=DATE-TIME:20250115T144357Z
DESCRIPTION:<p>Reunião com coordenadores de pós graduação da UFMG\, co
 m transmissão para o ICA.</p>
LAST-MODIFIED;VALUE=DATE-TIME:20250121T204936Z
URL:http://150.164.76.86:8080/cac/agenda/14325190299220648375
END:VEVENT
BEGIN:VTIMEZONE
TZID:America/Sao_Paulo
X-LIC-LOCATION:America/Sao_Paulo
BEGIN:DAYLIGHT
DTSTART;VALUE=DATE-TIME:20241020T010000
TZNAME:BRST
TZOFFSETFROM:-0300
TZOFFSETTO:-0200
END:DAYLIGHT
END:VTIMEZONE
END:VCALENDAR
