BEGIN:VCALENDAR
VERSION:2.0
PRODID:-//Plone.org//NONSGML plone.app.event//EN
X-WR-TIMEZONE:America/Sao_Paulo
BEGIN:VEVENT
SUMMARY:Aviva Universitário em [ Arena da praça de serviços]
DTSTART;TZID=America/Sao_Paulo;VALUE=DATE-TIME:20250410T180000
DTEND;TZID=America/Sao_Paulo;VALUE=DATE-TIME:20250410T190000
DTSTAMP;VALUE=DATE-TIME:20260419T105251Z
UID:8af34f442b9f4cbcb575ab0bff9acf92@150.164.76.86:8080
CREATED;VALUE=DATE-TIME:20250320T094536Z
DESCRIPTION:Evento Aviva Universitário para reunião da comunidade acadê
 mica visando um momento de oração e reflexão.\n\nO evento zela pelo cui
 dado com espaço\, por isso não serão usados recursos eletrônicos que f
 açam barulho.\n\nUm momento de oração e reflexão é importante na comu
 nidade ainda mais nesses tempos de cuidados com a saúde mental.
LAST-MODIFIED;VALUE=DATE-TIME:20250320T175524Z
URL:http://150.164.76.86:8080/cac/agenda/14303480959099864093
END:VEVENT
BEGIN:VTIMEZONE
TZID:America/Sao_Paulo
X-LIC-LOCATION:America/Sao_Paulo
BEGIN:STANDARD
DTSTART;VALUE=DATE-TIME:20250215T230000
TZNAME:BRT
TZOFFSETFROM:-0200
TZOFFSETTO:-0300
END:STANDARD
END:VTIMEZONE
END:VCALENDAR
