BEGIN:VCALENDAR
VERSION:2.0
PRODID:-//Plone.org//NONSGML plone.app.event//EN
X-WR-TIMEZONE:America/Sao_Paulo
BEGIN:VEVENT
SUMMARY:Evento Projeto FrancEcoLab Brasil 2021 / CCIFB (Embaixada da Fran
 ça no Brasil) em [ Outros espacos]
DTSTART;TZID=America/Sao_Paulo;VALUE=DATE-TIME:20211209T093000
DTEND;TZID=America/Sao_Paulo;VALUE=DATE-TIME:20211210T193000
DTSTAMP;VALUE=DATE-TIME:20260422T142757Z
UID:004c9a6764864a2fae540d33e1f38bb7@150.164.76.86:8080
CREATED;VALUE=DATE-TIME:20211103T125750Z
DESCRIPTION:A Câmara de Comércio França-Brasil (“CCIFB”) promoverá
  a FrancEcoLab Brasil 2021. O evento é um projeto iniciado pela Embaixada
  da França no Brasil\, do qual o IRD \né parceiro\, que visa conscientiz
 ar os jovens brasileiros sobre os desafios ambientais e\, em particular\, 
 a proteção dos oceanos e rios contra a poluição plástica e microplás
 tica. \nDurante o ano 2021\, temos uma série de eventos\, exposição e M
 ostra de Trabalhos. Ocorrerá na UFMG\, já com a prévia autorização da
  Reitoria da UFMG. \n\nSolicito o agendamento do  saguão do CAD 1\, para 
 os dias 09/12/2021 e 10/12/2021.\n\nPúblico: Estimado de 150 a 200 pessoa
 s\, com visitação e mostra de trabalhos de alunos e professores de 25 es
 colas de BH. \n\nProgramação: \n\nDia 09/12 - a partir 09:30 para a mont
 agem do espaço para as Mostras de Trabalhos.\n\nDia 10/12 - às 13h abert
 ura com a presença confirmada da Profa. Sandra Regina Goulart Almeida\, R
 eitora da UFMG e\, a confirmar\, presença da Embaixadora da França no Br
 asil.\n\nDia 10/12 - encerramento às 18:00. A partir das 18:30 desmontage
 m do evento no local.\n\nSolicitamos apoio logístico tais como: \n- equip
 amentos de som (06 caixas acústicas para alcance em toda a área do CAD1 
 e 4 microfones)\; equipe técnica\;\n- apoio logístico de suporte na ilum
 inação para os estandes da mostra. \n- apoio técnico de transmissão e 
 cobertura da TV UFMG\, com filmagem e transmissão ao vivo (acordada com o
  Vice-diretor do DRI/UFMG)\; \n- divulgação no Boletim da UFMG\, para as
  Unidades Acadêmicas e demais meios de comunicação da UFMG.\n\nMaiores 
 informações serão posteriormente enviadas e melhor detalhadas.\n\nDesde
  já agradeço o o apoio de sempre.\n\n\nAtenciosamente.\nRaquel Dias
LAST-MODIFIED;VALUE=DATE-TIME:20211118T125635Z
URL:http://150.164.76.86:8080/cac/agenda/14296120065252649937
END:VEVENT
BEGIN:VTIMEZONE
TZID:America/Sao_Paulo
X-LIC-LOCATION:America/Sao_Paulo
BEGIN:DAYLIGHT
DTSTART;VALUE=DATE-TIME:20211017T010000
TZNAME:BRST
TZOFFSETFROM:-0300
TZOFFSETTO:-0200
END:DAYLIGHT
END:VTIMEZONE
END:VCALENDAR
