BEGIN:VCALENDAR
VERSION:2.0
PRODID:-//Plone.org//NONSGML plone.app.event//EN
X-WR-TIMEZONE:America/Sao_Paulo
BEGIN:VEVENT
SUMMARY:Coordenadores de Projetos UFMG em [ Auditorio Nobre do CAD 1]
DTSTART;TZID=America/Sao_Paulo;VALUE=DATE-TIME:20220601T130000
DTEND;TZID=America/Sao_Paulo;VALUE=DATE-TIME:20220601T170000
DTSTAMP;VALUE=DATE-TIME:20260422T050925Z
UID:b64b78c7cd204179b43873e446923a5a@150.164.76.86:8080
CREATED;VALUE=DATE-TIME:20220509T142750Z
DESCRIPTION:Reunião com os coordenadores de projetos da UFMG - para alinh
 amento de informações da Fundep.
LAST-MODIFIED;VALUE=DATE-TIME:20220510T123130Z
URL:http://150.164.76.86:8080/cac/agenda/14280678795065953150
END:VEVENT
BEGIN:VTIMEZONE
TZID:America/Sao_Paulo
X-LIC-LOCATION:America/Sao_Paulo
BEGIN:STANDARD
DTSTART;VALUE=DATE-TIME:20220219T230000
TZNAME:BRT
TZOFFSETFROM:-0200
TZOFFSETTO:-0300
END:STANDARD
END:VTIMEZONE
END:VCALENDAR
