BEGIN:VCALENDAR
VERSION:2.0
PRODID:-//Plone.org//NONSGML plone.app.event//EN
X-WR-TIMEZONE:America/Sao_Paulo
BEGIN:VEVENT
SUMMARY:Quarta Doze e Trinta em [ Auditorio da Reitoria]
DTSTART;TZID=America/Sao_Paulo;VALUE=DATE-TIME:20220525T113000
DTEND;TZID=America/Sao_Paulo;VALUE=DATE-TIME:20220525T140000
DTSTAMP;VALUE=DATE-TIME:20260422T081437Z
UID:4eb07b06c48540e0b4e0e43e0ad0605a@150.164.76.86:8080
CREATED;VALUE=DATE-TIME:20220407T160806Z
DESCRIPTION:<p><span>Gold\, espetáculo formatura do TU</span></p>
LAST-MODIFIED;VALUE=DATE-TIME:20220408T140351Z
URL:http://150.164.76.86:8080/cac/agenda/14280649976293490718
END:VEVENT
BEGIN:VTIMEZONE
TZID:America/Sao_Paulo
X-LIC-LOCATION:America/Sao_Paulo
BEGIN:STANDARD
DTSTART;VALUE=DATE-TIME:20220219T230000
TZNAME:BRT
TZOFFSETFROM:-0200
TZOFFSETTO:-0300
END:STANDARD
END:VTIMEZONE
END:VCALENDAR
