BEGIN:VCALENDAR
VERSION:2.0
PRODID:-//Plone.org//NONSGML plone.app.event//EN
X-WR-TIMEZONE:America/Sao_Paulo
BEGIN:VEVENT
SUMMARY:PicadeRRÓ em [ Arena da praça de serviços]
DTSTART;TZID=America/Sao_Paulo;VALUE=DATE-TIME:20231122T173000
DTEND;TZID=America/Sao_Paulo;VALUE=DATE-TIME:20231122T190000
DTSTAMP;VALUE=DATE-TIME:20260420T143451Z
UID:ffacb541cbe6450c841e30e9e9206b10@150.164.76.86:8080
CREATED;VALUE=DATE-TIME:20230706T145120Z
DESCRIPTION:Evento de caráter cultural com objetivo de divulgação da cu
 ltura do forró\, promovendo forró gratuitamente para toda a comunidade d
 a UFMG. \nUtilizamos nossos próprios equipamentos sendo eles: caixa de so
 m\, microfone e computadores.
LAST-MODIFIED;VALUE=DATE-TIME:20230706T151839Z
URL:http://150.164.76.86:8080/cac/agenda/14277013483789831922
END:VEVENT
BEGIN:VTIMEZONE
TZID:America/Sao_Paulo
X-LIC-LOCATION:America/Sao_Paulo
BEGIN:DAYLIGHT
DTSTART;VALUE=DATE-TIME:20231015T010000
TZNAME:BRST
TZOFFSETFROM:-0300
TZOFFSETTO:-0200
END:DAYLIGHT
END:VTIMEZONE
END:VCALENDAR
