BEGIN:VCALENDAR
VERSION:2.0
PRODID:-//Plone.org//NONSGML plone.app.event//EN
X-WR-TIMEZONE:America/Sao_Paulo
BEGIN:VEVENT
SUMMARY:Leitura Pública do Edital de Mobilidade Internacional DRI/UFMG em
  [ Auditorio Nobre do CAD 1]
DTSTART;TZID=America/Sao_Paulo;VALUE=DATE-TIME:20220721T173000
DTEND;TZID=America/Sao_Paulo;VALUE=DATE-TIME:20220721T183000
DTSTAMP;VALUE=DATE-TIME:20260422T044655Z
UID:adc8dc79175f435680d45f04e02b1ce6@150.164.76.86:8080
CREATED;VALUE=DATE-TIME:20220704T143842Z
DESCRIPTION:Leitura Pública do Edital de Mobilidade Internacional da DRI/
 UFMG. Evento direcionado à comunidade discente da graduação.
LAST-MODIFIED;VALUE=DATE-TIME:20220711T110033Z
URL:http://150.164.76.86:8080/cac/agenda/14261212390574081254
END:VEVENT
BEGIN:VTIMEZONE
TZID:America/Sao_Paulo
X-LIC-LOCATION:America/Sao_Paulo
BEGIN:STANDARD
DTSTART;VALUE=DATE-TIME:20220219T230000
TZNAME:BRT
TZOFFSETFROM:-0200
TZOFFSETTO:-0300
END:STANDARD
END:VTIMEZONE
END:VCALENDAR
