BEGIN:VCALENDAR
VERSION:2.0
PRODID:-//Plone.org//NONSGML plone.app.event//EN
X-WR-TIMEZONE:America/Sao_Paulo
BEGIN:VEVENT
SUMMARY:COLAÇÃO DE GRAU ARQUIVOLOGIA\, BIBLIOTECONOMIA E MUSEOLOGIA em [
  Auditorio A104 do Cad 2]
DTSTART;TZID=America/Sao_Paulo;VALUE=DATE-TIME:20221006T140000
DTEND;TZID=America/Sao_Paulo;VALUE=DATE-TIME:20221006T160000
DTSTAMP;VALUE=DATE-TIME:20260421T221747Z
UID:b003f7483c1549ba82e3d1a3e8c7efad@150.164.76.86:8080
CREATED;VALUE=DATE-TIME:20220823T185114Z
DESCRIPTION:<p>COLAÇÃO DE GRAU DOS CURSOS DE BIBLIOTECONOMIA\, AQRUIVOLO
 GIA E MUSEOLOGIA</p>
LAST-MODIFIED;VALUE=DATE-TIME:20220928T142609Z
URL:http://150.164.76.86:8080/cac/agenda/14261028827753375573
END:VEVENT
BEGIN:VTIMEZONE
TZID:America/Sao_Paulo
X-LIC-LOCATION:America/Sao_Paulo
BEGIN:STANDARD
DTSTART;VALUE=DATE-TIME:20220219T230000
TZNAME:BRT
TZOFFSETFROM:-0200
TZOFFSETTO:-0300
END:STANDARD
END:VTIMEZONE
END:VCALENDAR
