BEGIN:VCALENDAR
VERSION:2.0
PRODID:-//Plone.org//NONSGML plone.app.event//EN
X-WR-TIMEZONE:America/Sao_Paulo
BEGIN:VEVENT
SUMMARY:Feira EBA em [ Entorno da Praca de Servicos]
DTSTART;TZID=America/Sao_Paulo;VALUE=DATE-TIME:20221215T080000
DTEND;TZID=America/Sao_Paulo;VALUE=DATE-TIME:20221216T180000
DTSTAMP;VALUE=DATE-TIME:20260421T205741Z
UID:29d8e031a4df4c8883679d83bbe4bb9e@150.164.76.86:8080
CREATED;VALUE=DATE-TIME:20221122T173511Z
DESCRIPTION:O evento consiste em uma Feira com o objetivo de expor\, divul
 gar e incentivar o empreendedorismo entre os alunos da EBA e também de ar
 tistas que não fazem parte dos cursos da Escola\, no contexto da comemora
 ção dos 65 anos da Escola de Belas Artes.\n\nEquipamentos necessários: 
 Caixa amplificadora e microfone.
LAST-MODIFIED;VALUE=DATE-TIME:20221129T210202Z
URL:http://150.164.76.86:8080/cac/agenda/14256344821401675021
END:VEVENT
BEGIN:VTIMEZONE
TZID:America/Sao_Paulo
X-LIC-LOCATION:America/Sao_Paulo
BEGIN:DAYLIGHT
DTSTART;VALUE=DATE-TIME:20221016T010000
TZNAME:BRST
TZOFFSETFROM:-0300
TZOFFSETTO:-0200
END:DAYLIGHT
END:VTIMEZONE
END:VCALENDAR
