BEGIN:VCALENDAR
VERSION:2.0
PRODID:-//Plone.org//NONSGML plone.app.event//EN
X-WR-TIMEZONE:America/Sao_Paulo
BEGIN:VEVENT
SUMMARY:ASSEMBLEIA DO APUBH em [ Auditorio da Reitoria]
DTSTART;TZID=America/Sao_Paulo;VALUE=DATE-TIME:20240517T080000
DTEND;TZID=America/Sao_Paulo;VALUE=DATE-TIME:20240517T190000
DTSTAMP;VALUE=DATE-TIME:20260420T032019Z
UID:7ac4bd6dcb8843759197a8c48735e757@150.164.76.86:8080
CREATED;VALUE=DATE-TIME:20240510T193800Z
DESCRIPTION:<p>ASSEMBLEIA DO APUBH DATA: 17.05.2024 HORÁRIO: 09h às 19h 
 Obs: Referente ao atendimento audiovisual\, o APUBH contratará os técnic
 os em greve.</p>
LAST-MODIFIED;VALUE=DATE-TIME:20240513T123705Z
URL:http://150.164.76.86:8080/cac/agenda/14253358287305723747
END:VEVENT
BEGIN:VTIMEZONE
TZID:America/Sao_Paulo
X-LIC-LOCATION:America/Sao_Paulo
BEGIN:STANDARD
DTSTART;VALUE=DATE-TIME:20240217T230000
TZNAME:BRT
TZOFFSETFROM:-0200
TZOFFSETTO:-0300
END:STANDARD
END:VTIMEZONE
END:VCALENDAR
