BEGIN:VCALENDAR
VERSION:2.0
PRODID:-//Plone.org//NONSGML plone.app.event//EN
X-WR-TIMEZONE:America/Sao_Paulo
BEGIN:VEVENT
SUMMARY:Bloqueio CAC em [ Auditorio da Reitoria Saguao da Reitoria Gramado
  da Reitoria Arena da praça de serviços Auditorio Nobre do CAD 1 Auditor
 io 1A do CAD 1 Auditorio 2A do CAD 1 Auditório B107 do CAD3 Auditório B3
 01 do CAD 3 Auditório B302 do CAD 3]
DTSTART;TZID=America/Sao_Paulo;VALUE=DATE-TIME:20230529T060000
DTEND;TZID=America/Sao_Paulo;VALUE=DATE-TIME:20230529T220000
DTSTAMP;VALUE=DATE-TIME:20260421T133056Z
UID:c464f787d5aa40158e850b8b2c01ea16@150.164.76.86:8080
CREATED;VALUE=DATE-TIME:20230425T140916Z
DESCRIPTION:<p>Bloqueio</p>
LAST-MODIFIED;VALUE=DATE-TIME:20230425T140938Z
URL:http://150.164.76.86:8080/cac/agenda/14251063624362028524
END:VEVENT
BEGIN:VTIMEZONE
TZID:America/Sao_Paulo
X-LIC-LOCATION:America/Sao_Paulo
BEGIN:STANDARD
DTSTART;VALUE=DATE-TIME:20230225T230000
TZNAME:BRT
TZOFFSETFROM:-0200
TZOFFSETTO:-0300
END:STANDARD
END:VTIMEZONE
END:VCALENDAR
