BEGIN:VCALENDAR
VERSION:2.0
PRODID:-//Plone.org//NONSGML plone.app.event//EN
X-WR-TIMEZONE:America/Sao_Paulo
BEGIN:VEVENT
SUMMARY:CAPACIDADE EXCEDIDA em [ Saguao da Reitoria Auditorio da Reitoria 
 Gramado da Reitoria Auditorio Nobre do CAD 1 Auditorio 1A do CAD 1 Auditor
 io 2A do CAD 1 Auditorio A104 do Cad 2 Arena da praça de serviços Audit
 ório B302 do CAD 3 Auditório B301 do CAD 3]
DTSTART;TZID=America/Sao_Paulo;VALUE=DATE-TIME:20201111T130000
DTEND;TZID=America/Sao_Paulo;VALUE=DATE-TIME:20201111T230000
DTSTAMP;VALUE=DATE-TIME:20260424T161205Z
UID:c77bd320f71648adaad3eab554cea8dc@150.164.76.86:8080
CREATED;VALUE=DATE-TIME:20200306T115346Z
DESCRIPTION:<p>.</p>
LAST-MODIFIED;VALUE=DATE-TIME:20200306T115419Z
URL:http://150.164.76.86:8080/cac/agenda/1424323033044169756
END:VEVENT
BEGIN:VTIMEZONE
TZID:America/Sao_Paulo
X-LIC-LOCATION:America/Sao_Paulo
BEGIN:DAYLIGHT
DTSTART;VALUE=DATE-TIME:20201018T010000
TZNAME:BRST
TZOFFSETFROM:-0300
TZOFFSETTO:-0200
END:DAYLIGHT
END:VTIMEZONE
END:VCALENDAR
