BEGIN:VCALENDAR
VERSION:2.0
PRODID:-//Plone.org//NONSGML plone.app.event//EN
X-WR-TIMEZONE:America/Sao_Paulo
BEGIN:VEVENT
SUMMARY:43º Mercado das Pulga em [ Entorno da Praca de Servicos]
DTSTART;TZID=America/Sao_Paulo;VALUE=DATE-TIME:20240708T090000
DTEND;TZID=America/Sao_Paulo;VALUE=DATE-TIME:20240712T170000
DTSTAMP;VALUE=DATE-TIME:20260419T234933Z
UID:707920ab8c3c4865bd1ac8882fc5cdc7@150.164.76.86:8080
CREATED;VALUE=DATE-TIME:20240423T170927Z
DESCRIPTION:70 Paineis
LAST-MODIFIED;VALUE=DATE-TIME:20240423T192123Z
URL:http://150.164.76.86:8080/cac/agenda/14243032951770054127
END:VEVENT
BEGIN:VTIMEZONE
TZID:America/Sao_Paulo
X-LIC-LOCATION:America/Sao_Paulo
BEGIN:STANDARD
DTSTART;VALUE=DATE-TIME:20240217T230000
TZNAME:BRT
TZOFFSETFROM:-0200
TZOFFSETTO:-0300
END:STANDARD
END:VTIMEZONE
END:VCALENDAR
