BEGIN:VCALENDAR
VERSION:2.0
PRODID:-//Plone.org//NONSGML plone.app.event//EN
X-WR-TIMEZONE:America/Sao_Paulo
BEGIN:VEVENT
SUMMARY:95 anos - Domingo no Campus em [ Gramado da Reitoria Em torno da P
 raca de Servicos Arena da praça de serviços Saguao da Reitoria]
DTSTART;TZID=America/Sao_Paulo;VALUE=DATE-TIME:20220605T080000
DTEND;TZID=America/Sao_Paulo;VALUE=DATE-TIME:20220605T130000
DTSTAMP;VALUE=DATE-TIME:20260422T051048Z
UID:e729f2e8b17d4b829d7f99cf880c49db@150.164.76.86:8080
CREATED;VALUE=DATE-TIME:20220505T173536Z
DESCRIPTION:<p>Domingo no Campus</p>
LAST-MODIFIED;VALUE=DATE-TIME:20220517T183308Z
URL:http://150.164.76.86:8080/cac/agenda/14236582966022657547
END:VEVENT
BEGIN:VTIMEZONE
TZID:America/Sao_Paulo
X-LIC-LOCATION:America/Sao_Paulo
BEGIN:STANDARD
DTSTART;VALUE=DATE-TIME:20220219T230000
TZNAME:BRT
TZOFFSETFROM:-0200
TZOFFSETTO:-0300
END:STANDARD
END:VTIMEZONE
END:VCALENDAR
