BEGIN:VCALENDAR
VERSION:2.0
PRODID:-//Plone.org//NONSGML plone.app.event//EN
X-WR-TIMEZONE:America/Sao_Paulo
BEGIN:VEVENT
SUMMARY:Curso de Verão em Bioinformática da UFMG 2023 em [ Auditorio Nob
 re do CAD 1]
DTSTART;TZID=America/Sao_Paulo;VALUE=DATE-TIME:20230703T080000
DTEND;TZID=America/Sao_Paulo;VALUE=DATE-TIME:20230707T183000
DTSTAMP;VALUE=DATE-TIME:20260421T091045Z
UID:e101ebac9488438d9de56bfdf7582117@150.164.76.86:8080
CREATED;VALUE=DATE-TIME:20230131T182830Z
DESCRIPTION:<p>O Curso de Verão em Bioinformática da UFMG é um evento r
 ealizado anualmente desde 2017\, voltado a alunos de graduação e pós-gr
 aduação de todo o país\, que desejem estudar e aprofundar conhecimentos
  sobre a bioinformática. Com objetivo de contribuir para o fortalecimento
  da comunidade de bioinformatas no Brasil\, a expansão e a divulgação c
 ientífica na área\, a programação do curso abrange diversas palestras 
 com pesquisadores e profissionais da bioinformática\, além de mini-curso
 s. A programação completa do curso estará disponível em breve no site:
  https://sites.google.com/view/cvb22/home Para a realização do evento\, 
 é necessário: - Auditório com capacidade para cerca de 350 pessoas. - M
 icrofones e caixas de som - Mesa e púlpito para palestrantes - Sistema de
  Projeção - Mesa de credenciamento - Espaço para realização de coffee
 -break</p>
LAST-MODIFIED;VALUE=DATE-TIME:20230524T131339Z
URL:http://150.164.76.86:8080/cac/agenda/14236372742077498097
END:VEVENT
BEGIN:VTIMEZONE
TZID:America/Sao_Paulo
X-LIC-LOCATION:America/Sao_Paulo
BEGIN:STANDARD
DTSTART;VALUE=DATE-TIME:20230225T230000
TZNAME:BRT
TZOFFSETFROM:-0200
TZOFFSETTO:-0300
END:STANDARD
END:VTIMEZONE
END:VCALENDAR
