BEGIN:VCALENDAR
VERSION:2.0
PRODID:-//Plone.org//NONSGML plone.app.event//EN
X-WR-TIMEZONE:America/Sao_Paulo
BEGIN:VEVENT
SUMMARY:Feira Indígena em [ Entorno da Praca de Servicos]
DTSTART;TZID=America/Sao_Paulo;VALUE=DATE-TIME:20230525T060000
DTEND;TZID=America/Sao_Paulo;VALUE=DATE-TIME:20230526T210000
DTSTAMP;VALUE=DATE-TIME:20260421T134043Z
UID:a3848c3b31974f08a25446b6f6d1a172@150.164.76.86:8080
CREATED;VALUE=DATE-TIME:20230324T111627Z
DESCRIPTION:Entre os dia 22 a 26/05 a PRAE - Pró-Reitoria de Assuntos Est
 udantis realizará a feira indígena.\nO evento contará com a participaç
 ão de coletividades indígenas para debate sobre politicas de acesso e pe
 rmanência estudantil na UFMG
LAST-MODIFIED;VALUE=DATE-TIME:20230324T145936Z
URL:http://150.164.76.86:8080/cac/agenda/14226195957734458850
END:VEVENT
BEGIN:VTIMEZONE
TZID:America/Sao_Paulo
X-LIC-LOCATION:America/Sao_Paulo
BEGIN:STANDARD
DTSTART;VALUE=DATE-TIME:20230225T230000
TZNAME:BRT
TZOFFSETFROM:-0200
TZOFFSETTO:-0300
END:STANDARD
END:VTIMEZONE
END:VCALENDAR
