BEGIN:VCALENDAR
VERSION:2.0
PRODID:-//Plone.org//NONSGML plone.app.event//EN
X-WR-TIMEZONE:America/Sao_Paulo
BEGIN:VEVENT
SUMMARY:SEMINARIO COMEMORAÇÃO DIA DOS APOSENTADOS em [ Auditorio A102 do
  Cad 2]
DTSTART;TZID=America/Sao_Paulo;VALUE=DATE-TIME:20220124T140000
DTEND;TZID=America/Sao_Paulo;VALUE=DATE-TIME:20220124T170000
DTSTAMP;VALUE=DATE-TIME:20260422T124953Z
UID:913bfa13fd244d87a2721ffe732e3801@150.164.76.86:8080
CREATED;VALUE=DATE-TIME:20211213T151223Z
DESCRIPTION:Seminário em comemoração dia dos aposentados.
LAST-MODIFIED;VALUE=DATE-TIME:20220112T175548Z
URL:http://150.164.76.86:8080/cac/agenda/14220953056046604453
END:VEVENT
BEGIN:VTIMEZONE
TZID:America/Sao_Paulo
X-LIC-LOCATION:America/Sao_Paulo
BEGIN:DAYLIGHT
DTSTART;VALUE=DATE-TIME:20211017T010000
TZNAME:BRST
TZOFFSETFROM:-0300
TZOFFSETTO:-0200
END:DAYLIGHT
END:VTIMEZONE
END:VCALENDAR
