BEGIN:VCALENDAR
VERSION:2.0
PRODID:-//Plone.org//NONSGML plone.app.event//EN
X-WR-TIMEZONE:America/Sao_Paulo
BEGIN:VEVENT
SUMMARY:Conselho de Diretores em [ Outros espacos]
DTSTART;TZID=America/Sao_Paulo;VALUE=DATE-TIME:20200402T130000
DTEND;TZID=America/Sao_Paulo;VALUE=DATE-TIME:20200402T180000
DTSTAMP;VALUE=DATE-TIME:20260425T010335Z
UID:784c17ebf3b4440fae59b72f0e7b4f92@150.164.76.86:8080
CREATED;VALUE=DATE-TIME:20200219T204927Z
DESCRIPTION:<p><span>Reunião prevista de acordo com o calendário disponi
 bilizado pela Sods</span></p>
LAST-MODIFIED;VALUE=DATE-TIME:20200219T204948Z
URL:http://150.164.76.86:8080/cac/agenda/1420070505718514721
END:VEVENT
BEGIN:VTIMEZONE
TZID:America/Sao_Paulo
X-LIC-LOCATION:America/Sao_Paulo
BEGIN:STANDARD
DTSTART;VALUE=DATE-TIME:20200215T230000
TZNAME:BRT
TZOFFSETFROM:-0200
TZOFFSETTO:-0300
END:STANDARD
END:VTIMEZONE
END:VCALENDAR
