BEGIN:VCALENDAR
VERSION:2.0
PRODID:-//Plone.org//NONSGML plone.app.event//EN
X-WR-TIMEZONE:America/Sao_Paulo
BEGIN:VEVENT
SUMMARY:Encontro de Pesquisa do PPG Fisiologia e Farmacologia em [ Outros 
 espacos Auditório B101/102 do CAD 3]
DTSTART;TZID=America/Sao_Paulo;VALUE=DATE-TIME:20231212T080000
DTEND;TZID=America/Sao_Paulo;VALUE=DATE-TIME:20231214T200000
DTSTAMP;VALUE=DATE-TIME:20260420T115153Z
UID:be44fac233d849b4b9c80f2db5f3b29a@150.164.76.86:8080
CREATED;VALUE=DATE-TIME:20230928T171341Z
DESCRIPTION:<p>- Gostaríamos de utilizar a área de cozinha/copa do CAD 3
  para realização de coffe break. - Gostaríamos de utilizar o espaço so
 b os pilotis do CAD 3 para apresentação de pôsteres. - Solicitamos pain
 éis pretos para colocação de pôsteres. - Estamos cientes que o auditó
 rio do CAD3 não dispõe de técnicos para auxílio audio-visual .</p>
LAST-MODIFIED;VALUE=DATE-TIME:20231206T114622Z
URL:http://150.164.76.86:8080/cac/agenda/14195262861143836504
END:VEVENT
BEGIN:VTIMEZONE
TZID:America/Sao_Paulo
X-LIC-LOCATION:America/Sao_Paulo
BEGIN:DAYLIGHT
DTSTART;VALUE=DATE-TIME:20231015T010000
TZNAME:BRST
TZOFFSETFROM:-0300
TZOFFSETTO:-0200
END:DAYLIGHT
END:VTIMEZONE
END:VCALENDAR
