BEGIN:VCALENDAR
VERSION:2.0
PRODID:-//Plone.org//NONSGML plone.app.event//EN
X-WR-TIMEZONE:America/Sao_Paulo
BEGIN:VEVENT
SUMMARY:Seminário aberto à comunidade -  Prof. Nóvoa\, apresentação d
 e  Políticas Institucionais nas IES Mineiras em [ Auditorio da Reitoria]
DTSTART;TZID=America/Sao_Paulo;VALUE=DATE-TIME:20250127T140000
DTEND;TZID=America/Sao_Paulo;VALUE=DATE-TIME:20250127T180000
DTSTAMP;VALUE=DATE-TIME:20260419T145131Z
UID:bdf53157a97648e390ebc1373b804b1c@150.164.76.86:8080
CREATED;VALUE=DATE-TIME:20250115T193440Z
DESCRIPTION:<p><span>Seminário aberto à comunidade -  Prof. Nóvoa\, ap
 resentação de  Políticas Institucionais nas IES Mineiras</span></p>\n<
 p><span><span>Contato para detalhes: Profa. Maria Flores - PROGRAD</span><
 /span></p>
LAST-MODIFIED;VALUE=DATE-TIME:20250115T195321Z
URL:http://150.164.76.86:8080/cac/agenda/14188340934554884285
END:VEVENT
BEGIN:VTIMEZONE
TZID:America/Sao_Paulo
X-LIC-LOCATION:America/Sao_Paulo
BEGIN:DAYLIGHT
DTSTART;VALUE=DATE-TIME:20241020T010000
TZNAME:BRST
TZOFFSETFROM:-0300
TZOFFSETTO:-0200
END:DAYLIGHT
END:VTIMEZONE
END:VCALENDAR
