BEGIN:VCALENDAR
VERSION:2.0
PRODID:-//Plone.org//NONSGML plone.app.event//EN
X-WR-TIMEZONE:America/Sao_Paulo
BEGIN:VEVENT
SUMMARY:Aniversário UFMG em [ Saguao da Reitoria Auditorio da Reitoria Gr
 amado da Reitoria Entorno da Praca de Servicos Auditorio Nobre do CAD 1 Au
 ditorio 1A do CAD 1 Auditorio 2A do CAD 1 Auditorio A102 do Cad 2 Auditori
 o A104 do Cad 2 Auditório B302 do CAD 3 Auditório B101/102 do CAD 3 Audi
 tório B301 do CAD 3]
DTSTART;TZID=America/Sao_Paulo;VALUE=DATE-TIME:20200909T080000
DTEND;TZID=America/Sao_Paulo;VALUE=DATE-TIME:20200909T220000
DTSTAMP;VALUE=DATE-TIME:20260424T183724Z
UID:d40be39700e04c51b9ac78b661ed9203@150.164.76.86:8080
CREATED;VALUE=DATE-TIME:20200219T125346Z
DESCRIPTION:<p>.</p>
LAST-MODIFIED;VALUE=DATE-TIME:20230111T201106Z
URL:http://150.164.76.86:8080/cac/agenda/14187164206742744261
END:VEVENT
BEGIN:VTIMEZONE
TZID:America/Sao_Paulo
X-LIC-LOCATION:America/Sao_Paulo
BEGIN:STANDARD
DTSTART;VALUE=DATE-TIME:20200215T230000
TZNAME:BRT
TZOFFSETFROM:-0200
TZOFFSETTO:-0300
END:STANDARD
END:VTIMEZONE
END:VCALENDAR
