BEGIN:VCALENDAR
VERSION:2.0
PRODID:-//Plone.org//NONSGML plone.app.event//EN
X-WR-TIMEZONE:America/Sao_Paulo
BEGIN:VEVENT
SUMMARY:Encontro AMIS UFMG - Arquivo\, Mídia\, Imagem e Sociedade - Brasi
 l/França em [ Auditorio A104 do Cad 2]
DTSTART;TZID=America/Sao_Paulo;VALUE=DATE-TIME:20241029T140000
DTEND;TZID=America/Sao_Paulo;VALUE=DATE-TIME:20241101T190000
DTSTAMP;VALUE=DATE-TIME:20260419T163730Z
UID:b89cbca83a35408b95fd3238c0b2c0da@150.164.76.86:8080
CREATED;VALUE=DATE-TIME:20231128T174933Z
DESCRIPTION:<p>EQUIPAMENTOS NECESSÁRIOS - TRÊS MICROFONES\, COM SUPORTE 
 - RECURSOS AUDIOVISUAIS (TELA E SOM) PARA PROJEÇÃO - SUPORTE PARA BANNER
  SOBRE O EVENTO O evento Encontro AMIS UFMG - Perspectivas e reflexões so
 bre arquivo e acervos sonoros e audiovisuais: experiências Brasil-França
 \, de formato híbrido\, tem o apoio do CNPq e acontecerá durante os dias
  30 e 31 de outubro\, e 1o. de novembro de 2024\, sendo promovido no âmbi
 to da Faculdade de Filosofia e Ciências Humanas (Fafich) no campus Pampul
 ha da Universidade Federal de Minas Gerais (UFMG). O AMIS tem apoio do Cen
 tro Nacional de Pesquisa Científica (CNRS\, na sigla em francês) em torn
 o da pesquisa\, com vigência entre março de 2021 e dezembro de 2025 (htt
 ps://www.cnrsrio.org/action-structuree/irp-amis/). O IRP/AMIS é um dos 12
  projetos de pesquisa apoiados pelo CNRS em parceria com equipes de pesqui
 sa no Brasil\, sendo o único na área da Comunicação Social. É interdi
 sciplinar\, reúne pesquisadores da História em torno do audiovisual e da
  Comunicação e tem a vigência de 5 anos (https://www.cnrsrio.org/wp-con
 tent/uploads/2022/04/FR-2022-Carte-Actions-structure%CC%81e-1-1.jpg). Comb
 ina pesquisa teórica e metodológica e desenvolvimento de ferramentas ana
 líticas e de conservação de patrimônio\, englobando um vasto corpus de
  arquivos audiovisuais\, franceses e brasileiros. A reconfiguração das p
 aisagens audiovisuais brasileira e francesa e a investigação sobre múlt
 iplas articulações entre formas audiovisuais e temporalidades estão no 
 cerne do projeto. Para os três dias de evento\, cuja realização está p
 revista para os dias 30\, 31 de outubro e 1 de novembro de 2024 (quarta\, 
 quinta e sexta)\, temos a seguinte programação preliminar. Encontro AMIS
  (IRP/CNRS) Universidade Federal de Minas Gerais (UFMG) Dia 29 de outubro 
 (terça-feira): 14 horas - preparação do local e teste dos equipamentos.
  Dia 30 de outubro de 2024 (quarta-feira) 9h-10h - Sessão de abertura 11h
  - Conferência de abertura 12h - Almoço 14h30-16h30 - Mesa 1: Arquivos e
  sociedade Apresentação dos trabalhos de pesquisadores brasileiros e fra
 nceses 16h30 - Coffee break 17h -19h - Mesa 2:Arquivo\, mídia e história
  Apresentação dos trabalhos de pesquisadores brasileiros e franceses Dia
  31 de outubro de 2024 10h-12h - Mesa 3: Questões conceituais e metodoló
 gicas sobre o trabalho com arquivo audiovisual e sonoro Apresentação dos
  trabalhos de pesquisadores brasileiros e franceses 12h - Almoço 14h30–
 16h30 - Mesa 4: Reflexões em torno do acesso\, circulação e preservaç
 ão de arquivos audiovisuais e sonoros Apresentação dos trabalhos de pes
 quisadores brasileiros e franceses 16h30 - Coffee break 17h – 19h - Mesa
  5: Os Usos de Arquivos públicos x arquivos privados Apresentação dos t
 rabalhos de pesquisadores brasileiros e franceses\; relatos de experiênci
 as 1o. de novembro de 2024 9h-12h - Reunião científica do projeto: Discu
 ssões sobre as frentes do projeto AMIS (Archives-Mémoires-Images-Sociét
 és) : o léxico e guia 14h-18h30 - Visita técnica 19h - Encerramento</p>
LAST-MODIFIED;VALUE=DATE-TIME:20231211T150806Z
URL:http://150.164.76.86:8080/cac/agenda/14175209193384065782
END:VEVENT
BEGIN:VTIMEZONE
TZID:America/Sao_Paulo
X-LIC-LOCATION:America/Sao_Paulo
BEGIN:DAYLIGHT
DTSTART;VALUE=DATE-TIME:20241020T010000
TZNAME:BRST
TZOFFSETFROM:-0300
TZOFFSETTO:-0200
END:DAYLIGHT
END:VTIMEZONE
END:VCALENDAR
