BEGIN:VCALENDAR
VERSION:2.0
PRODID:-//Plone.org//NONSGML plone.app.event//EN
X-WR-TIMEZONE:America/Sao_Paulo
BEGIN:VEVENT
SUMMARY:Mostra Sua UFMG no Campus Pampulha em [ Auditorio A102 do Cad 2 Au
 ditorio A104 do Cad 2 Auditório B101/102 do CAD 3 (102 s/ ar condic) Audi
 tório B106 do CAD3 Auditório B107 do CAD3 Auditório B301 do CAD 3 Audit
 ório B302 do CAD 3 Auditório B306 do CAD3]
DTSTART;TZID=America/Sao_Paulo;VALUE=DATE-TIME:20250522T070000
DTEND;TZID=America/Sao_Paulo;VALUE=DATE-TIME:20250522T220000
DTSTAMP;VALUE=DATE-TIME:20260419T091303Z
UID:35d2695f07c24dff95025c9c2ae69583@150.164.76.86:8080
CREATED;VALUE=DATE-TIME:20250516T151631Z
DESCRIPTION:<p>Mostra UFMG</p>
LAST-MODIFIED;VALUE=DATE-TIME:20250516T151644Z
URL:http://150.164.76.86:8080/cac/agenda/14164388164727229306
END:VEVENT
BEGIN:VTIMEZONE
TZID:America/Sao_Paulo
X-LIC-LOCATION:America/Sao_Paulo
BEGIN:STANDARD
DTSTART;VALUE=DATE-TIME:20250215T230000
TZNAME:BRT
TZOFFSETFROM:-0200
TZOFFSETTO:-0300
END:STANDARD
END:VTIMEZONE
END:VCALENDAR
