BEGIN:VCALENDAR
VERSION:2.0
PRODID:-//Plone.org//NONSGML plone.app.event//EN
X-WR-TIMEZONE:America/Sao_Paulo
BEGIN:VEVENT
SUMMARY:ASSEMBLEIA DO APUBH em [ Auditorio A104 do Cad 2]
DTSTART;TZID=America/Sao_Paulo;VALUE=DATE-TIME:20240529T080000
DTEND;TZID=America/Sao_Paulo;VALUE=DATE-TIME:20240529T180000
DTSTAMP;VALUE=DATE-TIME:20260420T030624Z
UID:a80dc59d756f4f4e877e2d86bc01b601@150.164.76.86:8080
CREATED;VALUE=DATE-TIME:20240523T142901Z
DESCRIPTION:<p>APUBH DATA: 29.05.2024 HORÁRIO: 08 H ÀS 18H TÉCNICO POR 
 CONTA DO APUBH</p>
LAST-MODIFIED;VALUE=DATE-TIME:20240524T160121Z
URL:http://150.164.76.86:8080/cac/agenda/1416365048154111953
END:VEVENT
BEGIN:VTIMEZONE
TZID:America/Sao_Paulo
X-LIC-LOCATION:America/Sao_Paulo
BEGIN:STANDARD
DTSTART;VALUE=DATE-TIME:20240217T230000
TZNAME:BRT
TZOFFSETFROM:-0200
TZOFFSETTO:-0300
END:STANDARD
END:VTIMEZONE
END:VCALENDAR
