BEGIN:VCALENDAR
VERSION:2.0
PRODID:-//Plone.org//NONSGML plone.app.event//EN
X-WR-TIMEZONE:America/Sao_Paulo
BEGIN:VEVENT
SUMMARY:V Encontro Latino-Americano de Investigadores(as) sobre Corpos e C
 orporalidades nas Culturas em [ Arena da praça de serviços Entorno da Pr
 aca de Servicos]
DTSTART;TZID=America/Sao_Paulo;VALUE=DATE-TIME:20241111T080000
DTEND;TZID=America/Sao_Paulo;VALUE=DATE-TIME:20241111T170000
DTSTAMP;VALUE=DATE-TIME:20260419T175653Z
UID:f0c0e6b268654d76969564cdc0bf4220@150.164.76.86:8080
CREATED;VALUE=DATE-TIME:20240806T180900Z
DESCRIPTION:<p>Na praça de serviços da UFMG pretendemos fazer o lançame
 nto de livro do V Encontro Latino-Americano de Investigadores(as) sobre Co
 rpos e Corporalidades nas Culturas (que acontecerá do dia 10 a 14 de nove
 mbro. Sobre equipamentos: precisamos de stands para a exposição dos livr
 os. A programação é de que os lançamento ocorra na hora do almoço (de
  12h às 14h).</p>
LAST-MODIFIED;VALUE=DATE-TIME:20240806T185441Z
URL:http://150.164.76.86:8080/cac/agenda/14140396436409093624
END:VEVENT
BEGIN:VTIMEZONE
TZID:America/Sao_Paulo
X-LIC-LOCATION:America/Sao_Paulo
BEGIN:DAYLIGHT
DTSTART;VALUE=DATE-TIME:20241020T010000
TZNAME:BRST
TZOFFSETFROM:-0300
TZOFFSETTO:-0200
END:DAYLIGHT
END:VTIMEZONE
END:VCALENDAR
