BEGIN:VCALENDAR
VERSION:2.0
PRODID:-//Plone.org//NONSGML plone.app.event//EN
X-WR-TIMEZONE:America/Sao_Paulo
BEGIN:VEVENT
SUMMARY:Reunião com Coordenadores de Cursos de Graduação em [ Auditorio
  da Reitoria]
DTSTART;TZID=America/Sao_Paulo;VALUE=DATE-TIME:20230308T153000
DTEND;TZID=America/Sao_Paulo;VALUE=DATE-TIME:20230308T170000
DTSTAMP;VALUE=DATE-TIME:20260421T164314Z
UID:f7a41183129d411cb130a791e4e15cc0@150.164.76.86:8080
CREATED;VALUE=DATE-TIME:20230224T180405Z
DESCRIPTION:<p>Microfones de mesa\, projeção e transmissão online para 
 ICA/Montes Claros.</p>
LAST-MODIFIED;VALUE=DATE-TIME:20230227T121432Z
URL:http://150.164.76.86:8080/cac/agenda/14132546250242911190
END:VEVENT
BEGIN:VTIMEZONE
TZID:America/Sao_Paulo
X-LIC-LOCATION:America/Sao_Paulo
BEGIN:STANDARD
DTSTART;VALUE=DATE-TIME:20230225T230000
TZNAME:BRT
TZOFFSETFROM:-0200
TZOFFSETTO:-0300
END:STANDARD
END:VTIMEZONE
END:VCALENDAR
