BEGIN:VCALENDAR
VERSION:2.0
PRODID:-//Plone.org//NONSGML plone.app.event//EN
X-WR-TIMEZONE:America/Sao_Paulo
BEGIN:VEVENT
SUMMARY:PICADERRO em [ Arena da praça de serviços]
DTSTART;TZID=America/Sao_Paulo;VALUE=DATE-TIME:20230426T173000
DTEND;TZID=America/Sao_Paulo;VALUE=DATE-TIME:20230426T190000
DTSTAMP;VALUE=DATE-TIME:20260421T150014Z
UID:0fe4d2d3e2524d6c95b197bc889d5f88@150.164.76.86:8080
CREATED;VALUE=DATE-TIME:20230330T114719Z
DESCRIPTION:Uso de equipamentos próprios
LAST-MODIFIED;VALUE=DATE-TIME:20230330T140019Z
URL:http://150.164.76.86:8080/cac/agenda/14109780724030142173
END:VEVENT
BEGIN:VTIMEZONE
TZID:America/Sao_Paulo
X-LIC-LOCATION:America/Sao_Paulo
BEGIN:STANDARD
DTSTART;VALUE=DATE-TIME:20230225T230000
TZNAME:BRT
TZOFFSETFROM:-0200
TZOFFSETTO:-0300
END:STANDARD
END:VTIMEZONE
END:VCALENDAR
