BEGIN:VCALENDAR
VERSION:2.0
PRODID:-//Plone.org//NONSGML plone.app.event//EN
X-WR-TIMEZONE:America/Sao_Paulo
BEGIN:VEVENT
SUMMARY:Pré-reserva Usinas Fotovoltaicas - Desligamento CADs 1 - em [ Aud
 itorio Nobre do CAD 1 Auditorio 1A do CAD 1 Auditorio 2A do CAD 1 Auditór
 io B302 do CAD 3 Auditório B101/102 do CAD 3 Auditório B301 do CAD 3]
DTSTART;TZID=America/Sao_Paulo;VALUE=DATE-TIME:20220616T080000
DTEND;TZID=America/Sao_Paulo;VALUE=DATE-TIME:20220616T090000
DTSTAMP;VALUE=DATE-TIME:20260422T064744Z
UID:ba3857a8d41d4ba887523f2aa1e9e554@150.164.76.86:8080
CREATED;VALUE=DATE-TIME:20220524T114913Z
DESCRIPTION:<h1 class="documentFirstHeading" id="parent-fieldname-title">P
 re reserva de 3 datas para as Usinas Fotovoltaicas - Desligamento CADs 1 -
  12\, 16 e 19 de Junho </h1>
LAST-MODIFIED;VALUE=DATE-TIME:20230111T201125Z
URL:http://150.164.76.86:8080/cac/agenda/14108274262231266143
END:VEVENT
BEGIN:VTIMEZONE
TZID:America/Sao_Paulo
X-LIC-LOCATION:America/Sao_Paulo
BEGIN:STANDARD
DTSTART;VALUE=DATE-TIME:20220219T230000
TZNAME:BRT
TZOFFSETFROM:-0200
TZOFFSETTO:-0300
END:STANDARD
END:VTIMEZONE
END:VCALENDAR
