BEGIN:VCALENDAR
VERSION:2.0
PRODID:-//Plone.org//NONSGML plone.app.event//EN
X-WR-TIMEZONE:America/Sao_Paulo
BEGIN:VEVENT
SUMMARY:VII Congresso Bayesiano da América Latina e 17º Encontro Brasile
 iro de Estatística Bayesiana em [ Auditório B101/102 do CAD 3 Auditório
  B107 do CAD3 Auditório B106 do CAD3]
DTSTART;TZID=America/Sao_Paulo;VALUE=DATE-TIME:20241128T080000
DTEND;TZID=America/Sao_Paulo;VALUE=DATE-TIME:20241206T210000
DTSTAMP;VALUE=DATE-TIME:20260419T150446Z
UID:bcca06cb6ede47b99c8fcedc66b774a7@150.164.76.86:8080
CREATED;VALUE=DATE-TIME:20231201T182119Z
DESCRIPTION:<p>Histórico: Havíamos solicitado em 11/10/2023 a reserva do
 s auditórios B101/B102 e B106/B107 para os dias 02 a 06 de dezembro de 20
 24\, das 08:30 às 21:00 horas\, para a realização do nosso evento. Noss
 o pedido foi negado em 14/11/2023 devido ao agendamento/bloqueio de todos 
 os auditórios dos CADs para um evento (5ª Jornada de Direitos Humanos) q
 ue ocorrerá no dia 06/12/2024. Nosso evento é um evento internacional e 
 todos os palestrantes (incluindo aqueles que virão do exterior) já estã
 o convidados\, o que inviabiliza a mudança de data de realização do eve
 nto. Diante deste fato\, pretendemos readequar o cronograma do nosso event
 o de modo a realizá-lo entre os dias 02 e 05 de dezembro\, caso realmente
  não seja possível utilizar os auditórios do CAD3 no dia 06/12/2024\, c
 onforme havíamos solicitado inicialmente. Equipamentos necessários: uso 
 do sistema de som e data-show dos auditórios (o técnico audiovisual Wash
 ington (ICEx) será responsável pelo manuseio dos equipamentos). Utiliza
 ção dos auditórios B101/B102 (usando a capacidade de até 300 pessoas):
  - Segunda (02/12): 08:00 às 21:00\; - Terça (03/12): 08:00 às 21:00\; 
 - Quarta (04/12): 08:00 às 21:00\; - Quinta (05/12): 08:00 às 21:00\; Ut
 ilização dos auditórios B106/B107 (CAD3) para a realização de minicur
 sos: - Terça (03/12): 08:00 às 12:00\; - Quarta (04/12): 08:00 às 12:00
 \; O auditório B107 também será utilizado para a realização de sessõ
 es que ocorrerão em paralelo com as sessões realizadas no auditório B10
 1/B102 (CAD3): - Segunda (02/12): 13:00 às 21:00\; - Terça (03/12): 13:0
 0 às 21:00\; - Quarta (04/12): 13:00 às 21:00\; - Quinta (05/12): 13:00 
 às 21:00\; Utilização diária do espaço da cantina do Bloco A do CAD3 
 para a realização de coffee-breaks: - Segunda (02/12): 16:30 às 17:00\;
  - Terça (03/12): 10:30 às 11:00 e 16:30 às 17:00\; - Quarta (04/12): 1
 0:30 às 11:00\; - Quinta (05/12): 10:30 às 11:00 e 16:30 às 17:00\; - S
 exta (06/12): 10:30 às 11:00\; Utilização do espaço da cantina do Bloc
 o A do CAD3 para a realização de sessões poster: - Terça (03/12): 18:3
 0 às 21:00 - Quinta (05/12): 18:30 às 21:00</p>
LAST-MODIFIED;VALUE=DATE-TIME:20240605T210641Z
URL:http://150.164.76.86:8080/cac/agenda/14082415831322333376
END:VEVENT
BEGIN:VTIMEZONE
TZID:America/Sao_Paulo
X-LIC-LOCATION:America/Sao_Paulo
BEGIN:DAYLIGHT
DTSTART;VALUE=DATE-TIME:20241020T010000
TZNAME:BRST
TZOFFSETFROM:-0300
TZOFFSETTO:-0200
END:DAYLIGHT
END:VTIMEZONE
END:VCALENDAR
