BEGIN:VCALENDAR
VERSION:2.0
PRODID:-//Plone.org//NONSGML plone.app.event//EN
X-WR-TIMEZONE:America/Sao_Paulo
BEGIN:VEVENT
SUMMARY:Aplicação do exame CELPE-BRAS em [ Auditorio A102 do Cad 2]
DTSTART;TZID=America/Sao_Paulo;VALUE=DATE-TIME:20231024T080000
DTEND;TZID=America/Sao_Paulo;VALUE=DATE-TIME:20231024T130000
DTSTAMP;VALUE=DATE-TIME:20260420T230910Z
UID:b0f9154db36441ceb4d0537cb0c57265@150.164.76.86:8080
CREATED;VALUE=DATE-TIME:20230822T195846Z
DESCRIPTION:<p><span> CENEX/FALE é um posto aplicador do exame de Certif
 icação de Proficiência em Língua Portuguesa para Estrangeiros (CELPE-B
 RAS) no estado de Minas Gerais. A data de aplicação das provas escritas 
 é determinada pelo INEP/MEC.</span></p>
LAST-MODIFIED;VALUE=DATE-TIME:20230911T141628Z
URL:http://150.164.76.86:8080/cac/agenda/14081388613850456830
END:VEVENT
BEGIN:VTIMEZONE
TZID:America/Sao_Paulo
X-LIC-LOCATION:America/Sao_Paulo
BEGIN:DAYLIGHT
DTSTART;VALUE=DATE-TIME:20231015T010000
TZNAME:BRST
TZOFFSETFROM:-0300
TZOFFSETTO:-0200
END:DAYLIGHT
END:VTIMEZONE
END:VCALENDAR
