BEGIN:VCALENDAR
VERSION:2.0
PRODID:-//Plone.org//NONSGML plone.app.event//EN
X-WR-TIMEZONE:America/Sao_Paulo
BEGIN:VEVENT
SUMMARY:Manutenção encanamento - prédio sem água em [ Outros espacos A
 uditorio Nobre do CAD 1]
DTSTART;TZID=America/Sao_Paulo;VALUE=DATE-TIME:20250204T130000
DTEND;TZID=America/Sao_Paulo;VALUE=DATE-TIME:20250206T210000
DTSTAMP;VALUE=DATE-TIME:20260419T120213Z
UID:702f2a1807804d3c82b9cdcb98568106@150.164.76.86:8080
CREATED;VALUE=DATE-TIME:20250204T143555Z
DESCRIPTION:<p>estouro de cano de água</p>
LAST-MODIFIED;VALUE=DATE-TIME:20250204T143606Z
URL:http://150.164.76.86:8080/cac/agenda/14076279351879185656
END:VEVENT
BEGIN:VTIMEZONE
TZID:America/Sao_Paulo
X-LIC-LOCATION:America/Sao_Paulo
BEGIN:DAYLIGHT
DTSTART;VALUE=DATE-TIME:20241020T010000
TZNAME:BRST
TZOFFSETFROM:-0300
TZOFFSETTO:-0200
END:DAYLIGHT
END:VTIMEZONE
END:VCALENDAR
