BEGIN:VCALENDAR
VERSION:2.0
PRODID:-//Plone.org//NONSGML plone.app.event//EN
X-WR-TIMEZONE:America/Sao_Paulo
BEGIN:VEVENT
SUMMARY:Festa de Encerramento Semana do Servidor em [ Outros espacos]
DTSTART;TZID=America/Sao_Paulo;VALUE=DATE-TIME:20221105T080000
DTEND;TZID=America/Sao_Paulo;VALUE=DATE-TIME:20221105T200000
DTSTAMP;VALUE=DATE-TIME:20260421T204701Z
UID:5cac44b14af448abb3f93522ef871362@150.164.76.86:8080
CREATED;VALUE=DATE-TIME:20220819T183850Z
DESCRIPTION:Equipamento de som\, conforme solicitação por e-mail
LAST-MODIFIED;VALUE=DATE-TIME:20220819T194628Z
URL:http://150.164.76.86:8080/cac/agenda/14072287000731953147
END:VEVENT
BEGIN:VTIMEZONE
TZID:America/Sao_Paulo
X-LIC-LOCATION:America/Sao_Paulo
BEGIN:DAYLIGHT
DTSTART;VALUE=DATE-TIME:20221016T010000
TZNAME:BRST
TZOFFSETFROM:-0300
TZOFFSETTO:-0200
END:DAYLIGHT
END:VTIMEZONE
END:VCALENDAR
