BEGIN:VCALENDAR
VERSION:2.0
PRODID:-//Plone.org//NONSGML plone.app.event//EN
X-WR-TIMEZONE:America/Sao_Paulo
BEGIN:VEVENT
SUMMARY:Assembleia de apuração de resultado - processo eleitoral em [ Au
 ditorio A104 do Cad 2]
DTSTART;TZID=America/Sao_Paulo;VALUE=DATE-TIME:20200514T090000
DTEND;TZID=America/Sao_Paulo;VALUE=DATE-TIME:20200514T130000
DTSTAMP;VALUE=DATE-TIME:20260425T000739Z
UID:10126244a0674ebe904102d854c39146@150.164.76.86:8080
CREATED;VALUE=DATE-TIME:20200131T134909Z
DESCRIPTION:- Abertura do auditório e porta de vidro dos fundos para pass
 agem da infraestrutura às 08H30
LAST-MODIFIED;VALUE=DATE-TIME:20200204T105509Z
URL:http://150.164.76.86:8080/cac/agenda/14061721697764351905
END:VEVENT
BEGIN:VTIMEZONE
TZID:America/Sao_Paulo
X-LIC-LOCATION:America/Sao_Paulo
BEGIN:STANDARD
DTSTART;VALUE=DATE-TIME:20200215T230000
TZNAME:BRT
TZOFFSETFROM:-0200
TZOFFSETTO:-0300
END:STANDARD
END:VTIMEZONE
END:VCALENDAR
