BEGIN:VCALENDAR
VERSION:2.0
PRODID:-//Plone.org//NONSGML plone.app.event//EN
X-WR-TIMEZONE:America/Sao_Paulo
BEGIN:VEVENT
SUMMARY:Vestibular da UFMG - Habilidades 2023 em [ Auditorio Nobre do CAD 
 1 Auditorio 1A do CAD 1 Auditorio 2A do CAD 1]
DTSTART;TZID=America/Sao_Paulo;VALUE=DATE-TIME:20230225T080000
DTEND;TZID=America/Sao_Paulo;VALUE=DATE-TIME:20230226T200000
DTSTAMP;VALUE=DATE-TIME:20260421T175519Z
UID:83199b4f01f349828990c00c00646896@150.164.76.86:8080
CREATED;VALUE=DATE-TIME:20230125T171502Z
DESCRIPTION:<p>Vestibular de habilidades - UFMG 2023</p>
LAST-MODIFIED;VALUE=DATE-TIME:20230214T145131Z
URL:http://150.164.76.86:8080/cac/agenda/14056858705686781121
END:VEVENT
BEGIN:VTIMEZONE
TZID:America/Sao_Paulo
X-LIC-LOCATION:America/Sao_Paulo
BEGIN:STANDARD
DTSTART;VALUE=DATE-TIME:20230225T230000
TZNAME:BRT
TZOFFSETFROM:-0200
TZOFFSETTO:-0300
END:STANDARD
BEGIN:DAYLIGHT
DTSTART;VALUE=DATE-TIME:20221016T010000
TZNAME:BRST
TZOFFSETFROM:-0300
TZOFFSETTO:-0200
END:DAYLIGHT
END:VTIMEZONE
END:VCALENDAR
