BEGIN:VCALENDAR
VERSION:2.0
PRODID:-//Plone.org//NONSGML plone.app.event//EN
X-WR-TIMEZONE:America/Sao_Paulo
BEGIN:VEVENT
SUMMARY:CAPACIDADE EXCEDIDA em [ Auditorio Nobre do CAD 1 Auditorio 1A do 
 CAD 1 Auditório B302 do CAD 3 Em torno da Praca de Servicos Auditório B3
 01 do CAD 3]
DTSTART;TZID=America/Sao_Paulo;VALUE=DATE-TIME:20200729T000000
DTEND;TZID=America/Sao_Paulo;VALUE=DATE-TIME:20200729T230000
DTSTAMP;VALUE=DATE-TIME:20260424T195700Z
UID:cf71468075474f6ebe139667e6ce1ba4@150.164.76.86:8080
CREATED;VALUE=DATE-TIME:20200114T210718Z
DESCRIPTION:<p>A pedido da coordenadora da CAC Cássia Monteiro\, aprovado
  em reuniões dos dias 09 e 10/01/2020.<br />Atenciosamente<br />Coordenad
 oria de Assuntos Comunitários</p>
LAST-MODIFIED;VALUE=DATE-TIME:20200214T155846Z
URL:http://150.164.76.86:8080/cac/agenda/14055528585705244886
END:VEVENT
BEGIN:VTIMEZONE
TZID:America/Sao_Paulo
X-LIC-LOCATION:America/Sao_Paulo
BEGIN:STANDARD
DTSTART;VALUE=DATE-TIME:20200215T230000
TZNAME:BRT
TZOFFSETFROM:-0200
TZOFFSETTO:-0300
END:STANDARD
END:VTIMEZONE
END:VCALENDAR
