BEGIN:VCALENDAR
VERSION:2.0
PRODID:-//Plone.org//NONSGML plone.app.event//EN
X-WR-TIMEZONE:America/Sao_Paulo
BEGIN:VEVENT
SUMMARY:OLIMPÍADA BRASILEIRA DE MATEMÁTICA em [ Auditório B106 do CAD3]
DTSTART;TZID=America/Sao_Paulo;VALUE=DATE-TIME:20241010T120000
DTEND;TZID=America/Sao_Paulo;VALUE=DATE-TIME:20241011T200000
DTSTAMP;VALUE=DATE-TIME:20260419T191901Z
UID:9a9d4bfcdc8d481d834da64c51dbcb9a@150.164.76.86:8080
CREATED;VALUE=DATE-TIME:20240926T135219Z
DESCRIPTION:<p>Prezados Solicito reserva de um auditório do CAD3 para apl
 icação da prova da Olimpíada Brasileira de Matemática. Devem participa
 r da prova entre 80 e 100 alunos. Data: quinta 10 e sexta 11 de outubro de
  2024. Horário: de 13h as 19h. Atenciosamente Francisco Dutenhefner ramal
  5807 E-mail recebido em cad3@cac.ufmg.br Quinta-feira\, 26 De setembro De
  2024 10:38 AM</p>
LAST-MODIFIED;VALUE=DATE-TIME:20240926T154447Z
URL:http://150.164.76.86:8080/cac/agenda/14017680345322010107
END:VEVENT
BEGIN:VTIMEZONE
TZID:America/Sao_Paulo
X-LIC-LOCATION:America/Sao_Paulo
BEGIN:STANDARD
DTSTART;VALUE=DATE-TIME:20240217T230000
TZNAME:BRT
TZOFFSETFROM:-0200
TZOFFSETTO:-0300
END:STANDARD
END:VTIMEZONE
END:VCALENDAR
