BEGIN:VCALENDAR
VERSION:2.0
PRODID:-//Plone.org//NONSGML plone.app.event//EN
X-WR-TIMEZONE:America/Sao_Paulo
BEGIN:VEVENT
SUMMARY:Curso de Verão em Bioquímica e Imunologia em [ Auditório B107 d
 o CAD3 - s/ ar condicionado]
DTSTART;TZID=America/Sao_Paulo;VALUE=DATE-TIME:20250203T133000
DTEND;TZID=America/Sao_Paulo;VALUE=DATE-TIME:20250203T173000
DTSTAMP;VALUE=DATE-TIME:20260419T120345Z
UID:147275577ff649a1be75dd5de2aa910e@150.164.76.86:8080
CREATED;VALUE=DATE-TIME:20250123T214502Z
DESCRIPTION:O II Curso de Verão em Bioquímica e Imunologia será um even
 to de duração de 5 dias (3 a 7 de fevereiro de 2025) com a finalidade de
  discutir tópicos referentes às áreas da Bioquímica e Imunologia. Have
 rá palestras\, sessão de pôsteres e mini-cursos. O número de participa
 ntes esperado é de 250 pessoas.\n\n \n\nObs: Período está dentro do cal
 endário acadêmico 2024.
LAST-MODIFIED;VALUE=DATE-TIME:20250124T152753Z
URL:http://150.164.76.86:8080/cac/agenda/13995503433628213292
END:VEVENT
BEGIN:VTIMEZONE
TZID:America/Sao_Paulo
X-LIC-LOCATION:America/Sao_Paulo
BEGIN:DAYLIGHT
DTSTART;VALUE=DATE-TIME:20241020T010000
TZNAME:BRST
TZOFFSETFROM:-0300
TZOFFSETTO:-0200
END:DAYLIGHT
END:VTIMEZONE
END:VCALENDAR
